Workbook
Name AcuireType: '[1]Back info sheet'!$A$2:$A$5
Name hot: Models!$A$94:$A$99
Name hotel: Models!$B$7:$B$11
Name met: Models!$B$32:$B$65
Name ok: Models!$B$12:$B$13
Name own: Models!$A$89:$A$93
Name owner: Models!$B$3:$B$6
Name reg: Models!$B$24:$B$31
Name ye: Models!$A$102:$A$104

Sheet Template
A1: Criteria | B1: Please select from a drop-down list
A2: Owner Type
A3: Hotel Type
A4: Ground Lease
A5: Number of keys | B5: Please type the number of keys here
A6: Hotel age at the Time of Acquisition (years) | B6: Please type the age of the hotel here
A7: Was the hotel renovated within past five years of acquisition?
A8: Has the hotel been renovated after acquisition?
A9: Was the hotel a part of a portfolio acquisition?
A10: Was the hotel a part of M&A deal?
A11: Region
A12: Metro
C15: Predicted Values
B16: 33rd Percentile | C16: =IF(OR(ISTEXT(B5),ISTEXT(B6)),"",Models!F71)
A17: Predicted Holding Period (Years) | B17: Median | C17: =IF(OR(ISTEXT(B5),ISTEXT(B6)),"",Models!F72)
B18: 66th Percentile | C18: =IF(OR(ISTEXT(B5),ISTEXT(B6)),"",Models!F73)

Sheet Models
C1: All observations (6,145) | D1: Sold Hotels Only (3.489) | E1: Hotel Characteristics | F1: Unknown Probability of Disposition | G1: To be Sold, for Sure
B2: Constant | C2: 1.458 | D2: 2.293 | E2: 1 | F2: =C2*$E2 -> 1.458 | G2: =D2*$E2 -> 2.293
A3: Owner Type | B3: Listed Non-REIT | C3: 0.635 | D3: -0.39 | E3: =IF(Template!B2=Models!B3,1,0) -> 0 | F3: =C3*$E3 -> 0 | G3: =D3*$E3 -> 0
B4: Listed REIT | C4: 0.497 | D4: -0.27 | E4: =IF(Template!B2=Models!B4,1,0) -> 0 | F4: =C4*$E4 -> 0 | G4: =D4*$E4 -> 0
B5: Non-Listed REIT | C5: -0.376 | D5: -0.417 | E5: =IF(Template!B2=Models!B5,1,0) -> 0 | F5: =C5*$E5 -> 0 | G5: =D5*$E5 -> 0
B6: Non-Listed Non-REIT | C6: 0 | D6: 0 | E6: =IF(Template!B2=Models!B6,1,0) -> 0 | F6: =C6*$E6 -> 0 | G6: =D6*$E6 -> 0
A7: Hotel Type | B7: Extended Stay Hotel | C7: 0.939 | D7: 0.005 | E7: =IF(Template!B3=Models!B7,1,0) -> 0 | F7: =C7*$E7 -> 0 | G7: =D7*$E7 -> 0
B8: Full-Service Hotel | C8: 0.785 | D8: 0.24 | E8: =IF(Template!B3=Models!B8,1,0) -> 0 | F8: =C8*$E8 -> 0 | G8: =D8*$E8 -> 0
B9: Limited-Service Hotel | C9: 1.102 | D9: 0.408 | E9: =IF(Template!B3=Models!B9,1,0) -> 0 | F9: =C9*$E9 -> 0 | G9: =D9*$E9 -> 0
B10: Budget Hotel | C10: 0 | D10: 0 | E10: =IF(Template!B1=Models!B10,1,0) -> 0 | F10: =C10*$E10 -> 0 | G10: =D10*$E10 -> 0
B11: Other Hotel Types | C11: 0.124 | D11: 0.031 | E11: =IF(Template!B3=Models!B11,1,0) -> 0 | F11: =C11*$E11 -> 0 | G11: =D11*$E11 -> 0
A12: Ground Lease | B12: Yes | C12: 0.13 | D12: 0.161 | E12: =IF(Template!B4=Models!B12,1,0) -> 0 | F12: =C12*$E12 -> 0 | G12: =D12*$E12 -> 0
B13: No | C13: 0 | D13: 0 | E13: =IF(Template!B4=Models!B13,1,0) -> 0 | F13: =C13*$E13 -> 0 | G13: =D13*$E13 -> 0
B14: Number of keys | C14: 0.0002 | D14: -0.0001 | E14: =Template!B5 -> Please type the number of keys here | F14: =C14*$E14 -> #VALUE! | G14: =D14*$E14 -> #VALUE!
B15: Hotel age at the Time of Acquisition (years) | C15: -0.006 | D15: -0.007 | E15: =Template!B6 -> Please type the age of the hotel here | F15: =C15*$E15 -> #VALUE! | G15: =D15*$E15 -> #VALUE!
A16: Was the hotel renovated within past five years of acquisition? | B16: Yes | C16: -0.114 | D16: -0.186 | E16: =IF(Template!B7=Models!B16,1,0) -> 0 | F16: =C16*$E16 -> 0 | G16: =D16*$E16 -> 0
B17: No | C17: 0 | D17: 0 | E17: =IF(Template!B7=Models!B17,1,0) -> 0 | F17: =C17*$E17 -> 0 | G17: =D17*$E17 -> 0
A18: Has the hotel been renovated after acquisition? | B18: Yes | C18: 0.497 | D18: 0.479 | E18: =IF(Template!B8=Models!B18,1,0) -> 0 | F18: =C18*$E18 -> 0 | G18: =D18*$E18 -> 0
B19: No | C19: 0 | D19: 0 | E19: =IF(Template!B8=Models!B19,1,0) -> 0 | F19: =C19*$E19 -> 0 | G19: =D19*$E19 -> 0
A20: Was the hotel a part of a portfolio acquisition? | B20: Yes | C20: -0.334 | D20: -0.329 | E20: =IF(Template!B9=Models!B20,1,0) -> 0 | F20: =C20*$E20 -> 0 | G20: =D20*$E20 -> 0
B21: No | C21: 0 | D21: 0 | E21: =IF(Template!B9=Models!B21,1,0) -> 0 | F21: =C21*$E21 -> 0 | G21: =D21*$E21 -> 0
A22: Was the hotel a part of M&A deal? | B22: Yes | C22: -0.34 | D22: -0.302 | E22: =IF(Template!B10=Models!B22,1,0) -> 0 | F22: =C22*$E22 -> 0 | G22: =D22*$E22 -> 0
B23: No | C23: 0 | D23: 0 | E23: =IF(Template!B10=Models!B23,1,0) -> 0 | F23: =C23*$E23 -> 0 | G23: =D23*$E23 -> 0
A24: Region | B24: Mideast | C24: 0.012 | D24: -0.034 | E24: =IF(Template!B11=Models!B24,1,0) -> 0 | F24: =C24*$E24 -> 0 | G24: =D24*$E24 -> 0
B25: Mountain | C25: 0.151 | D25: 0.114 | E25: =IF(Template!B11=Models!B25,1,0) -> 0 | F25: =C25*$E25 -> 0 | G25: =D25*$E25 -> 0
B26: Northeast | C26: -0.039 | D26: -0.01 | E26: =IF(Template!B11=Models!B26,1,0) -> 0 | F26: =C26*$E26 -> 0 | G26: =D26*$E26 -> 0
B27: Pacific | C27: 0.053 | D27: 0.073 | E27: =IF(Template!B11=Models!B27,1,0) -> 0 | F27: =C27*$E27 -> 0 | G27: =D27*$E27 -> 0
B28: Peurto | C28: 0.063 | D28: -0.293 | E28: =IF(Template!B11=Models!B28,1,0) -> 0 | F28: =C28*$E28 -> 0 | G28: =D28*$E28 -> 0
B29: Southeast | C29: 0.034 | D29: -0.08 | E29: =IF(Template!B11=Models!B29,1,0) -> 0 | F29: =C29*$E29 -> 0 | G29: =D29*$E29 -> 0
B30: Southwest | C30: 0.374 | D30: 0.302 | E30: =IF(Template!B11=Models!B30,1,0) -> 0 | F30: =C30*$E30 -> 0 | G30: =D30*$E30 -> 0
B31: West North Central | C31: 0.104 | D31: 0.371 | E31: =IF(Template!B11=Models!B31,1,0) -> 0 | F31: =C31*$E31 -> 0 | G31: =D31*$E31 -> 0
A32: Metro | B32: Others | C32: 0 | D32: 0 | E32: =IF(Template!B12=Models!B32,1,0) -> 0 | F32: =C32*$E32 -> 0 | G32: =D32*$E32 -> 0
B33: Atlanta-SandySprings-Alpharetta | C33: 0.072 | D33: 0.102 | E33: =IF(Template!B12=Models!B33,1,0) -> 0 | F33: =C33*$E33 -> 0 | G33: =D33*$E33 -> 0
B34: Austin-RoundRock-Georgetown | C34: 0.083 | D34: -0.085 | E34: =IF(Template!B12=Models!B34,1,0) -> 0 | F34: =C34*$E34 -> 0 | G34: =D34*$E34 -> 0
B35: Baltimore-Columbia-Towson | C35: 0.213 | D35: 0.103 | E35: =IF(Template!B12=Models!B35,1,0) -> 0 | F35: =C35*$E35 -> 0 | G35: =D35*$E35 -> 0
B36: Birmingham-Hoover | C36: 0.017 | D36: 0.008 | E36: =IF(Template!B12=Models!B36,1,0) -> 0 | F36: =C36*$E36 -> 0 | G36: =D36*$E36 -> 0
B37: Boston-Cambridge-Newton | C37: 0.074 | D37: -0.127 | E37: =IF(Template!B12=Models!B37,1,0) -> 0 | F37: =C37*$E37 -> 0 | G37: =D37*$E37 -> 0
B38: Charlotte-Concord-Gastonia | C38: 0.114 | D38: -0.068 | E38: =IF(Template!B12=Models!B38,1,0) -> 0 | F38: =C38*$E38 -> 0 | G38: =D38*$E38 -> 0
B39: Chicago-Naperville-Elgin | C39: 0.082 | D39: -0.072 | E39: =IF(Template!B12=Models!B39,1,0) -> 0 | F39: =C39*$E39 -> 0 | G39: =D39*$E39 -> 0
B40: Cincinnati | C40: -0.071 | D40: -0.037 | E40: =IF(Template!B12=Models!B40,1,0) -> 0 | F40: =C40*$E40 -> 0 | G40: =D40*$E40 -> 0
...

Sheet DISCLAIMER & CREDITS
A1: CREDITs
A2: Analysts
A3: Prashant Das, PhD | prashant.pkd@gmail.com
A4: Cedric Poretti, PhD | cedric.poretti@ehl.ch
A5: Excel Tool
A6: Evgenia Kozorez | evgenia.kozorez@ehl.ch
A7: Please cite as: Poretti, C. & Das, P. (2020). What Explains Differing Holding Periods Across Hotel Investments? A Hazard Rate Framework. International Journal of Hospitality Management. Vol 89. doi.org/10.1016/j.ijhm.2020.102564
A9: DISCLAIMER
A10: This document is presented as an academic exercise and must be used at a user's own discretion. Any professional application by the users should be based on their own analysis. The authors disclaim any liabilities arising from the use of this document. The views, opinions, findings, and conclusions or recommendations expressed in this document are strictly those of the author(s). They do not necessarily reflect the views of any organizations they are directly or indirectly affiliated to. The authors take no responsibility for any errors or omissions in, or for the correctness of, the information contained in this document, or all documents related to this.
A12: HOW IT WORKS
A13: In the tab titled "Template", provide the details (type or select from a dropdown) of your subject hotel in the grey-colored cells. Yellow cells will display the holding period estimates.
A14: NOTES
... A23: The estimates provide you a predicted range of possible holding period with the current owners of the subject hotel. E.g., a median value of 15 years means that the subject hotel is likely to be held for 15 years since its acquisition/ development, after which the hotel will be sold. This range (33rd percentile, median, and 66th percentile) is based on econometric modeling of over 6,000 bservations. The predictioons are based on an assumption that the determinants of the holding period are broadly unaltered compared to the training data.
